BEGIN:VCALENDAR
VERSION:2.0
PRODID:-//Tukios.com/
BEGIN:VEVENT
UID:ae2192e5-5138-4261-a64b-5dad4eab1860@www.dotysouthsidefuneral.com
DTSTAMP:20260421T211045Z
DTSTART:20260606T160000Z
DTEND:20260606T170000Z
SUMMARY:Memorial Service
DESCRIPTION:
URL:https://www.dotysouthsidefuneral.com/obituaries/jason-collins
LOCATION:Desha United Methodist Church 145 Jamestown Road  Desha AR 72527
GEO:35.7314167;-91.679115
END:VEVENT
END:VCALENDAR